BEGIN:VCALENDAR
VERSION:2.0
PRODID:-//ChamberMaster//Event Calendar 2.0//EN
METHOD:PUBLISH
X-PUBLISHED-TTL:P3D
REFRESH-INTERVAL:P3D
CALSCALE:GREGORIAN
BEGIN:VEVENT
DTSTART:20160311T030000Z
DTEND:20160310T170000Z
X-MICROSOFT-CDO-ALLDAYEVENT:FALSE
SUMMARY:Say No to the Proposed Siskiyou Crest Monument
DESCRIPTION:A Community Meeting of Information\, Maps and Action plan.\n\n\n\nTo stop the expansion which includes over 1\,200 homes from bringing into reality the Siskiyou Crest National Monument
X-ALT-DESC;FMTTYPE=text/html:<strong>A Community Meeting of Information\, Maps and Action plan.<br />\n<br />\nTo stop the expansion which includes over 1\,200 homes from bringing into reality the Siskiyou Crest National Monument</strong>
LOCATION:County Building in Cave Junction
UID:e.1818.15795
SEQUENCE:3
DTSTAMP:20260426T030835Z
URL:https://business.grantspasschamber.org/events/details/say-no-to-the-proposed-siskiyou-crest-monument-03-10-2016-15795
END:VEVENT

END:VCALENDAR
