BEGIN:VCALENDAR
VERSION:2.0
PRODID:-//ChamberMaster//Event Calendar 2.0//EN
METHOD:PUBLISH
X-PUBLISHED-TTL:P3D
REFRESH-INTERVAL:P3D
CALSCALE:GREGORIAN
BEGIN:VEVENT
DTSTART:20160401T020000Z
DTEND:20160401T040000Z
X-MICROSOFT-CDO-ALLDAYEVENT:FALSE
SUMMARY:Say No to the Proposed Siskiyou Crest Monument
DESCRIPTION:A Community meeting.\n\n\n\nTo Stop the proposed expansion which includes over 1\,200 homes from bringing into reality the Siskiyou Crest National Monument.
X-ALT-DESC;FMTTYPE=text/html:<strong>A Community meeting.<br />\n<br />\nTo Stop the proposed expansion which includes over 1\,200 homes from bringing into reality the Siskiyou Crest National Monument.</strong>
LOCATION:Fruitdale Grange 1440 Parkdale Ave Grants Pass Oregon 97527
UID:e.1818.15797
SEQUENCE:3
DTSTAMP:20260426T030835Z
URL:https://business.grantspasschamber.org/events/details/say-no-to-the-proposed-siskiyou-crest-monument-03-31-2016-15797
END:VEVENT

END:VCALENDAR
