BEGIN:VCALENDAR
VERSION:2.0
PRODID:-//ChamberMaster//Event Calendar 2.0//EN
METHOD:PUBLISH
X-PUBLISHED-TTL:P3D
REFRESH-INTERVAL:P3D
CALSCALE:GREGORIAN
BEGIN:VEVENT
DTSTART:20250311T200000Z
DTEND:20250311T220000Z
X-MICROSOFT-CDO-ALLDAYEVENT:FALSE
SUMMARY:Schedule C and Small Business Taxes-Free Webinar
DESCRIPTION:Attendees will learn business deductions and credits. This workshop promotes tax planning to pay no more than the right amount of taxes\, covering topics like Schedule C\, deductions\, profit\, and loss. Save money on income taxes by writing it off!\n\n\n\n\n\n\n\nAbout the Presenter: David Higgins works for the IRS in the Communications and Liaison Division as a Tax Specialist in Seattle\, WA. David serves as the primary IRS contact to community\, industry\, and business organizations throughout the State of Washington. David coordinates\, educates\, and presents a variety of tax topics to all taxpayer communities\, including employers\, community groups\, small business resource partners and tax practitioner organizations.\n\n\n\nDavid began his career with the Internal Revenue Service in 2010\, and worked in many general program areas concentrating on Taxpayer Service\, education\, compliance\, and technical tax law issues. Before joining the IRS\, David served in the US Census providing outreach to community groups.\n\n\n\nThis workshop is presented by SCORE. Score provides mentoring and education to the business community free of charge.
X-ALT-DESC;FMTTYPE=text/html:<span style="font-size:20px\;"><span style="color: rgb(0\, 0\, 0)\; font-family: arial\;">Attendees will learn business deductions and credits. This workshop promotes tax planning to pay no more than the right amount of taxes\, covering topics like Schedule C\, deductions\, profit\, and loss. Save money on income taxes by writing it off!<br />\n<br />\n<br />\n<br />\nAbout the Presenter: David Higgins works for the IRS in the Communications and Liaison Division as a Tax Specialist in Seattle\, WA. David serves as the primary IRS contact to community\, industry\, and business organizations throughout the State of Washington. David coordinates\, educates\, and presents a variety of tax topics to all taxpayer communities\, including employers\, community groups\, small business resource partners and tax practitioner organizations.<br />\n<br />\nDavid began his career with the Internal Revenue Service in 2010\, and worked in many general program areas concentrating on Taxpayer Service\, education\, compliance\, and technical tax law issues. Before joining the IRS\, David served in the US Census providing outreach to community groups.</span><br />\n<br />\n<span style="background-color: transparent\; color: rgb(0\, 0\, 0)\; font-family: arial\, sans-serif\;">This workshop is presented by SCORE. Score provides mentoring and education to the business community free of charge.</span></span>
LOCATION:Webinar Link
UID:e.1818.54087
SEQUENCE:3
DTSTAMP:20260419T152747Z
URL:https://business.grantspasschamber.org/events/details/schedule-c-and-small-business-taxes-free-webinar-54087
END:VEVENT

END:VCALENDAR
