BEGIN:VCALENDAR
VERSION:2.0
PRODID:-//ChamberMaster//Event Calendar 2.0//EN
METHOD:PUBLISH
X-PUBLISHED-TTL:P3D
REFRESH-INTERVAL:P3D
CALSCALE:GREGORIAN
BEGIN:VEVENT
DTSTART:20160305T200000Z
DTEND:20160305T200000Z
X-MICROSOFT-CDO-ALLDAYEVENT:FALSE
SUMMARY:Seeds of Spring Seminar ~ JoCo Master Gardeners
DESCRIPTION:A day of workshops and classes covering various aspects of gardening.
X-ALT-DESC;FMTTYPE=text/html:<strong>A day of workshops and classes covering various aspects of gardening.</strong>
LOCATION:Rogue Community College
UID:e.1818.14434
SEQUENCE:3
DTSTAMP:20260426T030827Z
URL:https://business.grantspasschamber.org/events/details/seeds-of-spring-seminar-joco-master-gardeners-03-05-2016-14434
END:VEVENT

END:VCALENDAR
