BEGIN:VCALENDAR
VERSION:2.0
PRODID:-//ChamberMaster//Event Calendar 2.0//EN
METHOD:PUBLISH
X-PUBLISHED-TTL:P3D
REFRESH-INTERVAL:P3D
CALSCALE:GREGORIAN
BEGIN:VEVENT
DTSTART:20160312T210000Z
DTEND:20160313T010000Z
X-MICROSOFT-CDO-ALLDAYEVENT:FALSE
SUMMARY:Self Defense/CPR class for teens
DESCRIPTION:Bethel #13 of Job's Daughters International and Demolay are holding a CPR/Self Defense class open to the community\, for teens. Sure to be fun and productive at the same time!
X-ALT-DESC;FMTTYPE=text/html:Bethel #13 of Job&#39\;s Daughters International and Demolay are holding a CPR/Self Defense class open to the community\, for teens. Sure to be fun and productive at the same time!
LOCATION:Grants Pass Masonic Lodge #81 \, 320 NW E St.
UID:e.1818.16859
SEQUENCE:3
DTSTAMP:20260426T030557Z
URL:https://business.grantspasschamber.org/events/details/self-defense-cpr-class-for-teens-03-12-2016-16859
END:VEVENT

END:VCALENDAR
