BEGIN:VCALENDAR
VERSION:2.0
PRODID:-//ChamberMaster//Event Calendar 2.0//EN
METHOD:PUBLISH
X-PUBLISHED-TTL:P3D
REFRESH-INTERVAL:P3D
CALSCALE:GREGORIAN
BEGIN:VEVENT
DTSTART:20180116T000000Z
DTEND:20180116T010000Z
X-MICROSOFT-CDO-ALLDAYEVENT:FALSE
SUMMARY:Sen. Jeff Merkley's Town Hall
DESCRIPTION:
X-ALT-DESC;FMTTYPE=text/html:
LOCATION:Grants Pass High School commons area 830 NE 9th St Grants Pass
UID:e.1818.25029
SEQUENCE:3
DTSTAMP:20260424T113927Z
URL:https://business.grantspasschamber.org/events/details/sen-jeff-merkley-s-town-hall-25029
END:VEVENT

END:VCALENDAR
