BEGIN:VCALENDAR
VERSION:2.0
PRODID:-//ChamberMaster//Event Calendar 2.0//EN
METHOD:PUBLISH
X-PUBLISHED-TTL:P3D
REFRESH-INTERVAL:P3D
CALSCALE:GREGORIAN
BEGIN:VEVENT
DTSTART;VALUE=DATE:20160626
DTEND;VALUE=DATE:20160627
TRANSP:TRANSPARENT
X-MICROSOFT-CDO-ALLDAYEVENT:TRUE
SUMMARY:SERVE GP ~ Celebration Day
DESCRIPTION:Serve & Celebrate\n\nSpeaker:  Jose' Zayas\n\nwww.JoseZayas.org\n\nFun for the whole family\n\nFree Food\, Children's Playground\, Children's Bounce Houses\, Rock Climbing Wall
X-ALT-DESC;FMTTYPE=text/html:<strong>Serve &amp\; Celebrate<br />\nSpeaker:&nbsp\; Jose&#39\; Zayas<br />\nwww.JoseZayas.org<br />\n<u>Fun for the whole family</u><br />\nFree Food\, Children&#39\;s Playground\, Children&#39\;s Bounce Houses\, Rock Climbing Wall</strong>
LOCATION:Riverside Park
UID:e.1818.17598
SEQUENCE:3
DTSTAMP:20260425T223603Z
URL:https://business.grantspasschamber.org/events/details/serve-gp-celebration-day-06-26-2016-17598
END:VEVENT

END:VCALENDAR
