BEGIN:VCALENDAR
VERSION:2.0
PRODID:-//ChamberMaster//Event Calendar 2.0//EN
METHOD:PUBLISH
X-PUBLISHED-TTL:P3D
REFRESH-INTERVAL:P3D
CALSCALE:GREGORIAN
BEGIN:VEVENT
DTSTART;VALUE=DATE:20160625
DTEND;VALUE=DATE:20160626
TRANSP:TRANSPARENT
X-MICROSOFT-CDO-ALLDAYEVENT:TRUE
SUMMARY:SERVE GP ~ Service Day
DESCRIPTION:It is a weekend where our community comes together to humbly walk\, side by side\, in an effort to tangibly deliver God's love to our community through selfless acts of service and celebration.
X-ALT-DESC;FMTTYPE=text/html:<strong>It is a weekend where our community comes together to humbly walk\, side by side\, in an effort to tangibly deliver God&#39\;s love to our community through selfless acts of <u><em>service and celebration</em></u></strong><u><em>.</em></u>
LOCATION:2016 Proposed Projects Sign-up online @ www.servegp.com
UID:e.1818.17597
SEQUENCE:3
DTSTAMP:20260425T223710Z
URL:https://business.grantspasschamber.org/events/details/serve-gp-service-day-06-25-2016-17597
END:VEVENT

END:VCALENDAR
