BEGIN:VCALENDAR
VERSION:2.0
PRODID:-//ChamberMaster//Event Calendar 2.0//EN
METHOD:PUBLISH
X-PUBLISHED-TTL:P3D
REFRESH-INTERVAL:P3D
CALSCALE:GREGORIAN
BEGIN:VEVENT
DTSTART:20260516T160000Z
DTEND:20260516T210000Z
X-MICROSOFT-CDO-ALLDAYEVENT:FALSE
SUMMARY:SERVE GP ~ Service Day
DESCRIPTION:SERVE GP is an all-day community service event where Church of the Valley churches go out and work on various projects throughout the community. We want to show this community how much Jesus loves them through acts of service and the gift of our time. \n\n\n\nREGISTER HERE
X-ALT-DESC;FMTTYPE=text/html:<br />\n<span style="font-family:arial\;"><span style="font-size:20px\;"><span style="color: rgba(26\, 12\, 9\, 0.96)\; white-space: pre-wrap\; background-color: rgb(255\, 255\, 255)\;">SERVE GP</span><strong style="font-weight: bold\; overflow-wrap: break-word\; color: rgba(26\, 12\, 9\, 0.96)\; font-family: Raleway\; font-size: 22px\; white-space: pre-wrap\; background-color: rgb(255\, 255\, 255)\;"> </strong><span style="color: rgba(26\, 12\, 9\, 0.96)\; white-space: pre-wrap\; background-color: rgb(255\, 255\, 255)\;">is an all-day community service event where Church of the Valley churches go out and work on various projects throughout the community. We want to show this community how much Jesus loves them through acts of service and the gift of our time. </span></span></span><br />\n<br />\n<a href="https://docs.google.com/forms/d/e/1FAIpQLSfxyp6N4zm5n2cILA1u643zHDcF8jIRrKxdwOGqisqEVK2ZNA/viewform"><span style="font-size:20px\;">REGISTER HERE</span></a>
LOCATION:Grants Pass
UID:e.1818.59606
SEQUENCE:3
DTSTAMP:20260423T072439Z
URL:https://business.grantspasschamber.org/events/details/serve-gp-service-day-59606
END:VEVENT

END:VCALENDAR
