BEGIN:VCALENDAR
VERSION:2.0
PRODID:-//ChamberMaster//Event Calendar 2.0//EN
METHOD:PUBLISH
X-PUBLISHED-TTL:P3D
REFRESH-INTERVAL:P3D
CALSCALE:GREGORIAN
BEGIN:VEVENT
DTSTART;VALUE=DATE:20160818
DTEND;VALUE=DATE:20160819
TRANSP:TRANSPARENT
X-MICROSOFT-CDO-ALLDAYEVENT:TRUE
SUMMARY:Service with Pride Celebration
DESCRIPTION:A Celebration of Women Veterans\n\nwith Star Spangled\n\n\n\n(Please let us know if you plan on bringing small children)
X-ALT-DESC;FMTTYPE=text/html:<strong><span style="font-size:18px\;">A Celebration of Women Veterans<br />\nwith Star Spangled</span><br />\n<br />\n(Please let us know if you plan on bringing small children)</strong>
LOCATION:Southern Oregon VA Rehabilitation Theater (VA SORCC Theater) 8495 Crater Lake Hwy White City\, OR
UID:e.1818.17739
SEQUENCE:3
DTSTAMP:20260425T192022Z
URL:https://business.grantspasschamber.org/events/details/service-with-pride-celebration-08-18-2016-17739
END:VEVENT

END:VCALENDAR
