BEGIN:VCALENDAR
VERSION:2.0
PRODID:-//ChamberMaster//Event Calendar 2.0//EN
METHOD:PUBLISH
X-PUBLISHED-TTL:P3D
REFRESH-INTERVAL:P3D
CALSCALE:GREGORIAN
BEGIN:VEVENT
DTSTART;VALUE=DATE:20180503
DTEND;VALUE=DATE:20180507
TRANSP:TRANSPARENT
X-MICROSOFT-CDO-ALLDAYEVENT:TRUE
SUMMARY:Seussical The Musical At Rogue Auditorium
DESCRIPTION:Performed by Logos Public Charter School theatre students\, Seussical is a musical by Lynn Ahrens and Stephen Flaherty based on the works of Dr. Seuss that debuted on Broadway in 2000.\n\n\n\nThe play is an amalgamation of many of Seuss's most famous children's stories\, with most of its plot being based on Horton Hears a Who!.
X-ALT-DESC;FMTTYPE=text/html:Performed by Logos Public Charter School theatre students\, <em><strong>Seussical</strong></em><span style="font-family:sans-serif\; font-size:14px">&nbsp\;is a&nbsp\;</span><a class="mw-redirect" href="https://en.wikipedia.org/wiki/Musical_theater" style="text-decoration-line: none\; color: rgb(11\, 0\, 128)\; background-image: none\; background-position: initial\; background-size: initial\; background-repeat: initial\; background-attachment: initial\; background-origin: initial\; background-clip: initial\; font-family: sans-serif\; font-size: 14px\;" title="Musical theater">musical</a><span style="font-family:sans-serif\; font-size:14px">&nbsp\;by&nbsp\;</span><a href="https://en.wikipedia.org/wiki/Lynn_Ahrens" style="text-decoration-line: none\; color: rgb(11\, 0\, 128)\; background-image: none\; background-position: initial\; background-size: initial\; background-repeat: initial\; background-attachment: initial\; background-origin: initial\; background-clip: initial\; font-family: sans-serif\; font-size: 14px\;" title="Lynn Ahrens">Lynn Ahrens</a><span style="font-family:sans-serif\; font-size:14px">&nbsp\;and&nbsp\;</span><a href="https://en.wikipedia.org/wiki/Stephen_Flaherty" style="text-decoration-line: none\; color: rgb(11\, 0\, 128)\; background-image: none\; background-position: initial\; background-size: initial\; background-repeat: initial\; background-attachment: initial\; background-origin: initial\; background-clip: initial\; font-family: sans-serif\; font-size: 14px\;" title="Stephen Flaherty">Stephen Flaherty</a><span style="font-family:sans-serif\; font-size:14px">&nbsp\;based on the works of&nbsp\;</span><a href="https://en.wikipedia.org/wiki/Dr._Seuss" style="text-decoration-line: none\; color: rgb(11\, 0\, 128)\; background-image: none\; background-position: initial\; background-size: initial\; background-repeat: initial\; background-attachment: initial\; background-origin: initial\; background-clip: initial\; font-family: sans-serif\; font-size: 14px\;" title="Dr. Seuss">Dr. Seuss</a><span style="font-family:sans-serif\; font-size:14px">&nbsp\;that debuted on&nbsp\;</span><a href="https://en.wikipedia.org/wiki/Broadway_theatre" style="text-decoration-line: none\; color: rgb(11\, 0\, 128)\; background-image: none\; background-position: initial\; background-size: initial\; background-repeat: initial\; background-attachment: initial\; background-origin: initial\; background-clip: initial\; font-family: sans-serif\; font-size: 14px\;" title="Broadway theatre">Broadway</a><span style="font-family:sans-serif\; font-size:14px">&nbsp\;in 2000.<br />\n<br />\nThe play is an amalgamation of many of Seuss&#39\;s most famous children&#39\;s stories\, with most of its plot being based on&nbsp\;</span><em><a href="https://en.wikipedia.org/wiki/Horton_Hears_a_Who!" style="text-decoration-line: none\; color: rgb(11\, 0\, 128)\; background: none\;" title="Horton Hears a Who!">Horton Hears a Who!</a></em><span style="font-family:sans-serif\; font-size:14px">.</span>
LOCATION:Rogue Auditorium - at RCC 3345 Redwood Hwy. Grants Pass\, OR 97527
UID:e.1818.28816
SEQUENCE:3
DTSTAMP:20260424T025824Z
URL:https://business.grantspasschamber.org/events/details/seussical-the-musical-at-rogue-auditorium-28816
END:VEVENT

END:VCALENDAR
