BEGIN:VCALENDAR
VERSION:2.0
PRODID:-//ChamberMaster//Event Calendar 2.0//EN
METHOD:PUBLISH
X-PUBLISHED-TTL:P3D
REFRESH-INTERVAL:P3D
CALSCALE:GREGORIAN
BEGIN:VEVENT
DTSTART:20160319T190000Z
DTEND:20160320T190000Z
X-MICROSOFT-CDO-ALLDAYEVENT:FALSE
SUMMARY:Sheriff's Posse Horse Show and Gymkhana
DESCRIPTION:The gymkhana will be held on Saturday and the horse show will be held on Sunday.
X-ALT-DESC;FMTTYPE=text/html:The gymkhana will be held on Saturday and the horse show will be held on Sunday.
LOCATION:Josephine County Fairgrounds
UID:e.1818.15224
SEQUENCE:3
DTSTAMP:20260426T030835Z
URL:https://business.grantspasschamber.org/events/details/sheriff-s-posse-horse-show-and-gymkhana-03-19-2016-15224
END:VEVENT

END:VCALENDAR
