BEGIN:VCALENDAR
VERSION:2.0
PRODID:-//ChamberMaster//Event Calendar 2.0//EN
METHOD:PUBLISH
X-PUBLISHED-TTL:P3D
REFRESH-INTERVAL:P3D
CALSCALE:GREGORIAN
BEGIN:VEVENT
DTSTART:20160902T160000Z
DTEND:20160906T003000Z
X-MICROSOFT-CDO-ALLDAYEVENT:FALSE
SUMMARY:Shop River Rock Annual Labor Day Sale
DESCRIPTION:Come join us for one of the largest sales of the year.\n\nLabor Day Weekend\, September 2nd-5th\n\n9:00 am - 5:30 pm \n\nSale ends Monday at 4pm. \n\n\n\nThis labor day we have cut the price tag in a major way!\n\nUp to 75% off Home Decor\, furntire\, fashions\, and more!\n\n\n\nWhat are you waiting for\, make your way down to Shop River Rock and let the Labor Day celebrations begin!
X-ALT-DESC;FMTTYPE=text/html:<strong>Come join us for one of the largest sales of the year.<br />\nLabor Day Weekend\, September 2nd-5th<br />\n9:00 am - 5:30 pm&nbsp\;<br />\nSale ends Monday at 4pm.&nbsp\;<br />\n<br />\n<u>This labor day we have cut the price tag in a major way</u>!<br />\nUp to 75% off Home Decor\, furntire\, fashions\, and more!<br />\n<br />\nWhat are you waiting for\, make your way down to Shop River Rock and let the Labor Day celebrations begin!&nbsp\;</strong><br />\n&nbsp\;
LOCATION:Shop River Rock 966 SW 6th Street Grants Pass\, OR 97526 (in Hellgate Building)
UID:e.1818.17748
SEQUENCE:3
DTSTAMP:20260425T181926Z
URL:https://business.grantspasschamber.org/events/details/shop-river-rock-annual-labor-day-sale-09-02-2016-17748
END:VEVENT

END:VCALENDAR
