BEGIN:VCALENDAR
VERSION:2.0
PRODID:-//ChamberMaster//Event Calendar 2.0//EN
METHOD:PUBLISH
X-PUBLISHED-TTL:P3D
REFRESH-INTERVAL:P3D
CALSCALE:GREGORIAN
BEGIN:VEVENT
DTSTART:20160311T003000Z
DTEND:20160311T033000Z
X-MICROSOFT-CDO-ALLDAYEVENT:FALSE
SUMMARY:Shrine Circus 2016
DESCRIPTION:"EARLY BIRDS DISCOUNT AVAILABLE NOW"\n\n\n\nWith three rings of affordable family fun\, "The Shrine Circus" will thrill fans of all ages. Come see the death-defying aerial acts\, animal attractions including tigers and elephants. In addition to the performing acts\, kids will have the unique opportunity to ride and pet different types of animals. *** Acts are subject to change\n\n\n\n*** Thursday\, March 10th * 4:30 & 7:30 PM  Friday\, March 11th * 4:30 & 7:30 PM JOSEPHINE CO. FAIRGROUNDS *-*-*Once online sales have finished\, you can only purchase tickets at the circus location. We open doors one hour before the event!! "EARLY BIRDS DISCOUNT AVAILABLE NOW"
X-ALT-DESC;FMTTYPE=text/html:<strong>&quot\;EARLY BIRDS DISCOUNT AVAILABLE NOW</strong>&quot\;<br />\n<br />\n<strong>With three rings of affordable family fun\, &quot\;The Shrine Circus&quot\; will thrill fans of all ages. Come see the death-defying aerial acts\, animal attractions including tigers and elephants. In addition to the performing acts\, kids will have the unique opportunity to ride and pet different types of animals. *** Acts are subject to change<br />\n<br />\n*** Thursday\, March 10th&nbsp\;* 4:30 &amp\; 7:30 PM &nbsp\;Friday\, March 11th&nbsp\;* 4:30 &amp\; 7:30 PM JOSEPHINE CO. FAIRGROUNDS *-*-*Once online sales have finished\, you can only purchase tickets at the circus location. We open doors one hour before the event!! &quot\;EARLY BIRDS DISCOUNT AVAILABLE NOW&quot\;</strong>
LOCATION:JOSEPHINE CO. FAIRGROUNDS
UID:e.1818.15300
SEQUENCE:3
DTSTAMP:20260426T030445Z
URL:https://business.grantspasschamber.org/events/details/shrine-circus-2016-03-10-2016-15300
END:VEVENT

END:VCALENDAR
