BEGIN:VCALENDAR
VERSION:2.0
PRODID:-//ChamberMaster//Event Calendar 2.0//EN
METHOD:PUBLISH
X-PUBLISHED-TTL:P3D
REFRESH-INTERVAL:P3D
CALSCALE:GREGORIAN
BEGIN:VEVENT
DTSTART:20180413T233000Z
DTEND:20180414T023000Z
X-MICROSOFT-CDO-ALLDAYEVENT:FALSE
SUMMARY:Shrine Circus 2018 ~ Douglas Country Fairgrounds
DESCRIPTION:"The Shrine Circus" will thrill fans of all ages.\n\n\n\nCome see the death-defying aerial acts\, animal attractions including tigers and elephants. In addition to the performing acts\, kids will have the unique opportunity to ride and pet different types of animals. *** Acts are subject to change *** *-*-\n\n\n\n*Once online sales have finished\, you can only purchase tickets at the circus location. We open doors one hour before the event!!
X-ALT-DESC;FMTTYPE=text/html:<strong>&quot\;The Shrine Circus&quot\; will thrill fans of all ages.<br />\n<br />\nCome see the death-defying aerial acts\, animal attractions including tigers and elephants. In addition to the performing acts\, kids will have the unique opportunity to ride and pet different types of animals. *** Acts are subject to change *** *-*-<br />\n<br />\n*Once online sales have finished\, you can only purchase tickets at the circus location. <u>We open doors one hour before the event!</u>!</strong>
LOCATION:Roseburg\, OR Douglas County Fairgrounds
UID:e.1818.28805
SEQUENCE:3
DTSTAMP:20260424T051012Z
URL:https://business.grantspasschamber.org/events/details/shrine-circus-2018-douglas-country-fairgrounds-28805
END:VEVENT

END:VCALENDAR
