BEGIN:VCALENDAR
VERSION:2.0
PRODID:-//ChamberMaster//Event Calendar 2.0//EN
METHOD:PUBLISH
X-PUBLISHED-TTL:P3D
REFRESH-INTERVAL:P3D
CALSCALE:GREGORIAN
BEGIN:VEVENT
DTSTART:20160711T160000Z
DTEND:20160714T200000Z
X-MICROSOFT-CDO-ALLDAYEVENT:FALSE
SUMMARY:Silat Camp- Martial Arts System
DESCRIPTION:Pencak Silat (pronounced SEE-LOT) is a martial arts system from the Indonesian archipelago that dates back thousands of years. We will be studying a mixed Silat system called Mande Muda\, a collection of 17 different styles\, learning the fundamentals of self-defense\, breathing\, sensitivity\, armed and unarmed combat\, and movement. We will also learn the Kimbangan\, a special martial arts dance that has hidden within its movements all the secrets of Silat.
X-ALT-DESC;FMTTYPE=text/html:Pencak Silat (pronounced SEE-LOT) is a martial arts system from the Indonesian archipelago that dates back thousands of years. We will be studying a mixed Silat system called Mande Muda\, a collection of 17 different styles\, learning the fundamentals of self-defense\, breathing\, sensitivity\, armed and unarmed combat\, and movement. We will also learn the Kimbangan\, a special martial arts dance that has hidden within its movements all the secrets of Silat.
LOCATION:Pacifica: A Garden in the Siskiyous 14615 Watergap Road Williams\, Oregon
UID:e.1818.17529
SEQUENCE:3
DTSTAMP:20260425T210046Z
URL:https://business.grantspasschamber.org/events/details/silat-camp-martial-arts-system-07-11-2016-17529
END:VEVENT

END:VCALENDAR
