BEGIN:VCALENDAR
VERSION:2.0
PRODID:-//ChamberMaster//Event Calendar 2.0//EN
METHOD:PUBLISH
X-PUBLISHED-TTL:P3D
REFRESH-INTERVAL:P3D
CALSCALE:GREGORIAN
BEGIN:VEVENT
DTSTART;VALUE=DATE:20160401
DTEND;VALUE=DATE:20160402
TRANSP:TRANSPARENT
X-MICROSOFT-CDO-ALLDAYEVENT:TRUE
SUMMARY:Silly Hats Birthday Bash ~ Fundraiser for Boys and Girls Club
DESCRIPTION:Start your "First Friday Here" at the Fruitdale Grange.....................\n\n\n\nCelebrating 6 Years local BNI group "Southern Oregon Synergy" with a fundraiser for our local Boys and Girls Club.  Come for a Hat Fashion Show and Bring your Hat and win.\n\n\n\nPrizes for Biggest\, Silliest & Most Creative Hats\n\n\n\nMusic by DJ Veach\, Rosella's Vineyard & Winery and Papa Terall's BBQ\n\n\n\nNo-Host Bar ~ Games ~ Dancing ~ Prizes
X-ALT-DESC;FMTTYPE=text/html:<strong><span style="font-size:16px"><em><u>Start your &quot\;First Friday Here&quot\; at the Fruitdale Grange</u></em>.....................</span><br />\n<br />\nCelebrating 6 Years local BNI group &quot\;Southern Oregon Synergy&quot\; with a fundraiser for our local Boys and Girls Club.&nbsp\; Come for a Hat Fashion Show and Bring your Hat and win.<br />\n<br />\n<span style="font-size:18px"><u>Prizes for Biggest\, Silliest &amp\; Most Creative Hats</u></span><br />\n<br />\nMusic by DJ Veach\, Rosella&#39\;s Vineyard &amp\; Winery and Papa Terall&#39\;s BBQ<br />\n<br />\n<span style="font-family:comic sans ms">No-Host Bar ~ Games ~ Dancing ~ Prizes</span></strong>
LOCATION:Fruitdale Grange 1440 Parkdale Ave (At Rogue River Highway)
UID:e.1818.16883
SEQUENCE:3
DTSTAMP:20260426T013828Z
URL:https://business.grantspasschamber.org/events/details/silly-hats-birthday-bash-fundraiser-for-boys-and-girls-club-04-01-2016-16883
END:VEVENT

END:VCALENDAR
