BEGIN:VCALENDAR
VERSION:2.0
PRODID:-//ChamberMaster//Event Calendar 2.0//EN
METHOD:PUBLISH
X-PUBLISHED-TTL:P3D
REFRESH-INTERVAL:P3D
CALSCALE:GREGORIAN
BEGIN:VEVENT
DTSTART:20160505T020000Z
DTEND:20160505T040000Z
X-MICROSOFT-CDO-ALLDAYEVENT:FALSE
SUMMARY:Silver Ring Thing
DESCRIPTION:The Silver Ring Thing is a high-powered dynamic event that speaks honestly to teens about God's plan for sex. This year's presentation is "Uprising: Disrupting Common Culture. (*A special session for parents is also a part of the show.) There is also a show in Medford on May 5th. For more infoabout these shows or to pre-register\, go to SilverRingThing.com
X-ALT-DESC;FMTTYPE=text/html:The Silver Ring Thing is a high-powered dynamic event that speaks honestly to teens about God&#39\;s plan for sex. This year&#39\;s presentation is &quot\;Uprising: Disrupting Common Culture. (*A special session for parents is also a part of the show.) There is also a show in Medford on May 5th. For more infoabout these shows or to pre-register\, go to SilverRingThing.com
LOCATION:Grants Pass High School Performing Arts Center
UID:e.1818.15845
SEQUENCE:3
DTSTAMP:20260425T235716Z
URL:https://business.grantspasschamber.org/events/details/silver-ring-thing-05-04-2016-15845
END:VEVENT

END:VCALENDAR
