BEGIN:VCALENDAR
VERSION:2.0
PRODID:-//ChamberMaster//Event Calendar 2.0//EN
METHOD:PUBLISH
X-PUBLISHED-TTL:P3D
REFRESH-INTERVAL:P3D
CALSCALE:GREGORIAN
BEGIN:VEVENT
DTSTART;VALUE=DATE:20160309
DTEND;VALUE=DATE:20160310
TRANSP:TRANSPARENT
X-MICROSOFT-CDO-ALLDAYEVENT:TRUE
SUMMARY:Siskiyou Field Institute in coordiation- Tick Entimology Class
DESCRIPTION:Siskiyou Field Institute in coordination with Oregon Lyme Disease Network present Ticks of Southern Oregon: Identification. Ecology and Protection with Jim Clover on March 9. Please arrive to sign in and meet your instructor by8:45 a.m. on Wednesday\, March 9. Class will conclude around 4:00 p.m. \n\n\n\nTentative Course Schedule: 9:00 ? 10:30 a.m. Instructor-student introductions and Power Point presentation on the biology of ticks. 10:30 a.m. ? 12:00 p.m. Lab session learning to identify various tick species. 12:00 ? 12:30 p.m. Lunch at SFI (bring a sack lunch) 12:30 ? 2:00 pm. PowerPoint on ecology and species 2:00 pm. ? 4:00 pm. Local field trip to collect ticks** 4:00 pm. - ? Opportunity to examine collected ticks under microscope
X-ALT-DESC;FMTTYPE=text/html:<strong>Siskiyou Field Institute in coordination with Oregon Lyme Disease Network present Ticks of Southern Oregon: Identification. Ecology and Protection with Jim Clover on March 9. Please arrive to sign in and meet your instructor by8:45 a.m. on Wednesday\, March 9. Class will conclude around 4:00 p.m. </strong><br />\n<br />\n<strong>Tentative Course Schedule: 9:00 ? 10:30 a.m. Instructor-student introductions and Power Point presentation on the biology of ticks. 10:30 a.m. ? 12:00 p.m. Lab session learning to identify various tick species. 12:00 ? 12:30 p.m. Lunch at SFI (bring a sack lunch) 12:30 ? 2:00 pm. PowerPoint on ecology and species 2:00 pm. ? 4:00 pm. Local field trip to collect ticks** 4:00 pm. - ? Opportunity to examine collected ticks under microscope</strong>
LOCATION:1241 Illinois River Road in Selma\, OR
UID:e.1818.16857
SEQUENCE:3
DTSTAMP:20260426T030835Z
URL:https://business.grantspasschamber.org/events/details/siskiyou-field-institute-in-coordiation-tick-entimology-class-16857
END:VEVENT

END:VCALENDAR
