BEGIN:VCALENDAR
VERSION:2.0
PRODID:-//ChamberMaster//Event Calendar 2.0//EN
METHOD:PUBLISH
X-PUBLISHED-TTL:P3D
REFRESH-INTERVAL:P3D
CALSCALE:GREGORIAN
BEGIN:VEVENT
DTSTART:20180210T230000Z
DTEND:20180211T053000Z
X-MICROSOFT-CDO-ALLDAYEVENT:FALSE
SUMMARY:Siskiyou FilmFest-2018
DESCRIPTION:The Siskiyou FilmFest focuses on the the activism\, science and history of the environmental movement and features award winning films about people creating real world solutions to today's environmental challenges on a local\, regional and global scale.\n\n\n\nWhenever possible we offer films produced in or about Oregon or the Klamath-Siskiyou region. We hope the films inspire you to action. For details of films and online ticket sales visit www.siskiyoufilmfest.org\n\n\n\nCelebrating 16 years of bringing inspiring and educational films to southwest Oregon\, we are excited to once again convene at the Grants Pass Performing Arts Center. If you are a seasoned Siskiyou Filmfest-goer\, you know that the Filmfest is much more than just the showing of films. Though small in size\, the Siskiyou Filmfest weaves together a tight-knit community\, with local conservation efforts\, and top notch films. Last but not least\, there will also be locally sourced FOOD from a wonderful local chef to enjoy!
X-ALT-DESC;FMTTYPE=text/html:<br />\n<strong>The Siskiyou FilmFest focuses on the the activism\, science and history of the environmental movement and features award winning films about people creating real world solutions to today&#39\;s environmental challenges on a local\, regional and global scale.<br />\n<br />\nWhenever possible we offer films produced in or about Oregon or the Klamath-Siskiyou region. We hope the films inspire you to action. For details of films and online ticket sales visit www.siskiyoufilmfest.org<br />\n<br />\nCelebrating 16 years of bringing inspiring and educational films to southwest Oregon\, we are excited to once again convene at the Grants Pass Performing Arts Center. If you are a seasoned&nbsp\;Siskiyou&nbsp\;Filmfest-goer\, you know that the&nbsp\;Filmfest&nbsp\;is much more than just the showing of films. Though small in size\, the&nbsp\;Siskiyou&nbsp\;Filmfest&nbsp\;weaves together a tight-knit community\, with local conservation efforts\, and top notch films. Last but not least\, there will also be locally sourced FOOD from a wonderful local chef to enjoy!</strong>
LOCATION:Grants Pass High School Performing Arts Center\, 830 NE 9th St\, Grants Pass\, OR 97526
UID:e.1818.25004
SEQUENCE:3
DTSTAMP:20260424T093041Z
URL:https://business.grantspasschamber.org/events/details/siskiyou-filmfest-2018-25004
END:VEVENT

END:VCALENDAR
