BEGIN:VCALENDAR
VERSION:2.0
PRODID:-//ChamberMaster//Event Calendar 2.0//EN
METHOD:PUBLISH
X-PUBLISHED-TTL:P3D
REFRESH-INTERVAL:P3D
CALSCALE:GREGORIAN
BEGIN:VEVENT
DTSTART;VALUE=DATE:20160716
DTEND;VALUE=DATE:20160717
TRANSP:TRANSPARENT
X-MICROSOFT-CDO-ALLDAYEVENT:TRUE
SUMMARY:Siskiyou Folk and Bluegrass Festival
DESCRIPTION:13th Annual Siskiyou Folk and Blue Grass Festival\n\n~Presented by Illinois Valley Chamber of Commerce~\n\n\n\nFamily Friendly Event ~ All are Welcome\n\n\n\nAll new bands this year for the 13th Annual Siskiyou Folk and Bluegrass Festival and here's the line-up: \n\nB with Jack and The Honey Bee Choir\n\nThe Podunk Poets \n\nThe Strillas \n\nAcousta Noir\n\nThe South Hills String Band\n\nMoody Little Sister\n\nOl' Mount'n Due\n\n\n\n\n\n$15 Entry plus $5 Parking\n\n12 years & under Free
X-ALT-DESC;FMTTYPE=text/html:<strong>13th Annual Siskiyou Folk and Blue Grass Festival<br />\n~Presented by Illinois Valley Chamber of Commerce~<br />\n<br />\nFamily Friendly Event ~ All are Welcome</strong><br />\n<br />\n<u><strong>All new bands this year</strong> for the 13th Annual&nbsp\;<a class="profileLink" href="https://www.facebook.com/siskiyoubluegrassfestival/" style="color: rgb(54\, 88\, 153)\; cursor: pointer\; text-decoration: none\;">Siskiyou Folk and Bluegrass Festival</a>&nbsp\;and here&#39\;s the line-up:&nbsp\;</u><br />\n<strong>B with Jack and The Honey Bee Choir<br />\n<a class="profileLink" href="https://www.facebook.com/thepodunkpoets/" style="color: rgb(54\, 88\, 153)\; cursor: pointer\; text-decoration: none\;">The Podunk Poets</a>&nbsp\;<br />\n<a class="profileLink" href="https://www.facebook.com/thestrillas/" style="color: rgb(54\, 88\, 153)\; cursor: pointer\; text-decoration: none\;">The Strillas</a>&nbsp\;<br />\n<a class="profileLink" href="https://www.facebook.com/AcoustaNoir/" style="color: rgb(54\, 88\, 153)\; cursor: pointer\; text-decoration: none\;">Acousta Noir</a><br />\n<a class="profileLink" href="https://www.facebook.com/southhillsstringband/" style="color: rgb(54\, 88\, 153)\; cursor: pointer\; text-decoration: none\;">The South Hills String Band</a><br />\n<a class="profileLink" href="https://www.facebook.com/MoodyLittleSister/" style="color: rgb(54\, 88\, 153)\; cursor: pointer\; text-decoration: none\;">Moody Little Sister</a><br />\n<a class="profileLink" href="https://www.facebook.com/OlMountnDue/" style="color: rgb(54\, 88\, 153)\; cursor: pointer\; text-decoration: none\;">Ol&#39\; Mount&#39\;n Due</a><br />\n<br />\n<br />\n$15 Entry plus $5 Parking<br />\n12 years &amp\; under Free</strong><br />\n<br />\n&nbsp\;
LOCATION:Lake Selmac\, Trout Pavilion 2700 Lakeshore Drive Selma\, OR
UID:e.1818.17512
SEQUENCE:3
DTSTAMP:20260425T211310Z
URL:https://business.grantspasschamber.org/events/details/siskiyou-folk-and-bluegrass-festival-07-16-2016-17512
END:VEVENT

END:VCALENDAR
