BEGIN:VCALENDAR
VERSION:2.0
PRODID:-//ChamberMaster//Event Calendar 2.0//EN
METHOD:PUBLISH
X-PUBLISHED-TTL:P3D
REFRESH-INTERVAL:P3D
CALSCALE:GREGORIAN
BEGIN:VEVENT
DTSTART:20240214T033000Z
DTEND:20240214T050000Z
X-MICROSOFT-CDO-ALLDAYEVENT:FALSE
SUMMARY:Siskiyou Saxophone Orchestra - Winter Concert
DESCRIPTION:Join us for a Winter Concert featuring the SOU Siskiyou Saxophone Orchestra on February 13\, 2024 at 7:30pm at the SOU Music Recital Hall. Directed by Dr. Rhett Bender.\n\n\n\nFree livestream available: https://youtube.com/live/jHVMYp7cdZU?feature=share Tickets are $15/general public\, $10/seniors\, free for SOU students\, faculty\, and staff. Accommodations available! Accessible seating and listening devices are available upon request. Please inquire at the OCA Box Office to reserve.
X-ALT-DESC;FMTTYPE=text/html:<br />\n<span style="font-size:20px\;">Join us for a Winter Concert featuring the SOU Siskiyou Saxophone Orchestra on February 13\, 2024 at 7:30pm at the SOU Music Recital Hall. Directed by Dr. Rhett Bender.<br />\n<br />\nFree livestream available:&nbsp\;<a href="https://youtube.com/live/jHVMYp7cdZU?feature=share">https://youtube.com/live/jHVMYp7cdZU?feature=share</a> Tickets are $15/general public\, $10/seniors\, free for SOU students\, faculty\, and staff. Accommodations available! Accessible seating and listening devices are available upon request. Please inquire at the OCA Box Office to reserve.</span>
LOCATION:SOU Music Recital Hall 450 S Mountain Ave Ashland\, OR 97520
UID:e.1818.47681
SEQUENCE:3
DTSTAMP:20260420T163325Z
URL:https://business.grantspasschamber.org/events/details/siskiyou-saxophone-orchestra-winter-concert-47681
END:VEVENT

END:VCALENDAR
