BEGIN:VCALENDAR
VERSION:2.0
PRODID:-//ChamberMaster//Event Calendar 2.0//EN
METHOD:PUBLISH
X-PUBLISHED-TTL:P3D
REFRESH-INTERVAL:P3D
CALSCALE:GREGORIAN
BEGIN:VEVENT
DTSTART:20161126T180000Z
DTEND:20161127T020000Z
X-MICROSOFT-CDO-ALLDAYEVENT:FALSE
SUMMARY:Small Business Saturday ~ Downtown Historic District
DESCRIPTION:Welcome to all Holiday Shoppers to the "Downtown Historic District" Small Business Saturday shops\, cafe's\, restaurants\, coffee shops\, art district to Downtown Grants Pass.\n\n\n\n#SmallBusinessSaturday
X-ALT-DESC;FMTTYPE=text/html:<strong>Welcome to all Holiday Shoppers to the &quot\;Downtown Historic District&quot\; Small Business Saturday shops\, cafe&#39\;s\, restaurants\, coffee shops\, art district to Downtown Grants Pass.<br />\n<br />\n#SmallBusinessSaturday</strong>
LOCATION:Grants Pass Downtown Historic District
UID:e.1818.18050
SEQUENCE:3
DTSTAMP:20260425T145048Z
URL:https://business.grantspasschamber.org/events/details/small-business-saturday-downtown-historic-district-18050
END:VEVENT

END:VCALENDAR
