BEGIN:VCALENDAR
VERSION:2.0
PRODID:-//ChamberMaster//Event Calendar 2.0//EN
METHOD:PUBLISH
X-PUBLISHED-TTL:P3D
REFRESH-INTERVAL:P3D
CALSCALE:GREGORIAN
BEGIN:VEVENT
DTSTART;VALUE=DATE:20160727
DTEND;VALUE=DATE:20160728
TRANSP:TRANSPARENT
X-MICROSOFT-CDO-ALLDAYEVENT:TRUE
SUMMARY:Sock Hop ~ Fruidale Grange Fundraiser ''Shoes For Kids''
DESCRIPTION:All funds raised from this event will be used to buy "Shoes For Kids" and given to needy families in our community.\n\n\n\nHula Hoop Contest ~ Limbo Contest ~ Best Dressed Couple Contest ~ Dance Off Contest ~ 50/50 Raffle ~ and Photo Book\n\n\n\nMusic By:  Janeen and the MVP's
X-ALT-DESC;FMTTYPE=text/html:<strong>All funds raised from this event will be used to buy &quot\;<u>Shoes For Kids</u>&quot\; and given to needy families in our community.<br />\n<br />\nHula Hoop Contest ~ Limbo Contest ~ Best Dressed Couple Contest ~ Dance Off Contest ~ 50/50 Raffle ~ and Photo Book<br />\n<br />\nMusic By:&nbsp\; Janeen and the MVP&#39\;s</strong>
LOCATION:Fruitdale Grange 1440 Parkdale Drive
UID:e.1818.17678
SEQUENCE:3
DTSTAMP:20260425T211653Z
URL:https://business.grantspasschamber.org/events/details/sock-hop-fruidale-grange-fundraiser-shoes-for-kids-07-27-2016-17678
END:VEVENT

END:VCALENDAR
