BEGIN:VCALENDAR
VERSION:2.0
PRODID:-//ChamberMaster//Event Calendar 2.0//EN
METHOD:PUBLISH
X-PUBLISHED-TTL:P3D
REFRESH-INTERVAL:P3D
CALSCALE:GREGORIAN
BEGIN:VEVENT
DTSTART:20161029T000000Z
DTEND:20161029T040000Z
X-MICROSOFT-CDO-ALLDAYEVENT:FALSE
SUMMARY:SOS Spaghetti Fundraiser
DESCRIPTION:Spaghetti-dinner fundraiser for Securing Our Safety's affiliated group Grace Roots\, which is on the front lines of the battle against heroin/opioid addiction in Josephine County.\n\n\n\nLive music by Phil King\, Now & Then Trio\, and Astoria! Dessert auction featuring desserts made by local celebrities\, police and elected leaders!\n\n\n\nTickets are $20 / kids 12 and under are free
X-ALT-DESC;FMTTYPE=text/html:Spaghetti-dinner fundraiser for Securing Our Safety&#39\;s affiliated group Grace Roots\, which is on the front lines of the battle against heroin/opioid addiction in Josephine County.<br />\n<br />\n<strong>Live music by Phil King\, Now &amp\; Then Trio\, and Astoria! Dessert auction featuring desserts made by local celebrities\, police and elected leaders!<br />\n<br />\nTickets are $20 / kids 12 and under are free</strong>
LOCATION:Wild River Pub 533 N.E. F St.\, Grants Pass
UID:e.1818.18010
SEQUENCE:3
DTSTAMP:20260425T162724Z
URL:https://business.grantspasschamber.org/events/details/sos-spaghetti-fundraiser-18010
END:VEVENT

END:VCALENDAR
