BEGIN:VCALENDAR
VERSION:2.0
PRODID:-//ChamberMaster//Event Calendar 2.0//EN
METHOD:PUBLISH
X-PUBLISHED-TTL:P3D
REFRESH-INTERVAL:P3D
CALSCALE:GREGORIAN
BEGIN:VEVENT
DTSTART:20240627T010000Z
DTEND:20240627T033000Z
X-MICROSOFT-CDO-ALLDAYEVENT:FALSE
SUMMARY:Sound Bath Women's Circle
DESCRIPTION:Domanique Madrid will be returning again on the 26th for our June sound bath circle! Domanique is a certified sound healer and trained Reiki Master. She has been playing the Native American flute for over a decade and works with the 4 directions\, animal spirit guides\, ancestors\, Jesus Yeshua and the Archangels. Domanique is a tribal member of the Klamath Modoc Nation of Oregon and is guided by Creator to hold space for you to heal back into wholeness.\n\n\n\nDuring this women's only event\, we will be opening sacred space to connect and heal in conscious sisterhood. We will meditate while Domanique leads us with sound healing. She uses Native American flutes\, rattles\, reiki drumming and crystal singing bowls to activate and heal your body\, mind\, and soul.\n\n\n\nThere are 20 spaces available. Pricing is on a sliding scale from $15 - $40. If you'd like to pay with cash\, send an email to reserve your spot. Don't miss out on this wholesome healing event! Pre-register with the event link.
X-ALT-DESC;FMTTYPE=text/html:<span style="font-size:20px\;">Domanique Madrid will be returning again on the 26th for our June sound bath circle! Domanique is a certified sound healer and trained Reiki Master. She has been playing the Native American flute for over a decade and works with the 4 directions\, animal spirit guides\, ancestors\, Jesus Yeshua and the Archangels. Domanique is a tribal member of the Klamath Modoc Nation of Oregon and is guided by Creator to hold space for you to heal back into wholeness.<br />\n<br />\nDuring this women&rsquo\;s only event\, we will be opening sacred space to connect and heal in conscious sisterhood. We will meditate while Domanique leads us with sound healing. She uses Native American flutes\, rattles\, reiki drumming and crystal singing bowls to activate and heal your body\, mind\, and soul.<br />\n<br />\nThere are 20 spaces available. Pricing is on a sliding scale from $15 - $40. If you&rsquo\;d like to pay with cash\, send an email to reserve your spot. Don&rsquo\;t miss out on this wholesome healing event! Pre-register with the event link.</span>
LOCATION:Mama Gaia Yoga & Wellness 1607 Williams Hwy #5 Grants Pass\, OR 97527
UID:e.1818.49725
SEQUENCE:3
DTSTAMP:20260420T092050Z
URL:https://business.grantspasschamber.org/events/details/sound-bath-women-s-circle-49725
END:VEVENT

END:VCALENDAR
