BEGIN:VCALENDAR
VERSION:2.0
PRODID:-//ChamberMaster//Event Calendar 2.0//EN
METHOD:PUBLISH
X-PUBLISHED-TTL:P3D
REFRESH-INTERVAL:P3D
CALSCALE:GREGORIAN
BEGIN:VEVENT
DTSTART:20161119T170000Z
DTEND:20161119T230000Z
X-MICROSOFT-CDO-ALLDAYEVENT:FALSE
SUMMARY:South Middle School Holiday Bazaar
DESCRIPTION:South Middle School would like to cordially invite you AND all your friends & family to attend our Annual Christmas Bazaar on Saturday\, November 19th from 9am-3pm.\n\n\n\nThis as a great fundraiser the school puts on each year and all proceeds go to help with the success of the Christmas for Kids program. Booths will have hand crafted items\, holiday d cor and much more!\n\n\n\nIf you are a bazaar vendor or know of anyone who might be interested in renting a booth\, please contact the school at (541) 474-5750 or check out our webpage www.grantspass.k12.or.us/south. We look forward to seeing you!
X-ALT-DESC;FMTTYPE=text/html:<strong>South Middle School would like to cordially invite you AND all your friends &amp\; family to attend our Annual Christmas Bazaar on Saturday\, November 19th from 9am-3pm.<br />\n<br />\nThis as a great fundraiser the school puts on each year and all proceeds go to help with the success of the Christmas for Kids program. Booths will have hand crafted items\, holiday d&eacute\;cor and much more!<br />\n<br />\nIf you are a bazaar vendor or know of anyone who might be interested in renting a booth\, please contact the school at (541) 474-5750 or check out our webpage www.grantspass.k12.or.us/south. We look forward to seeing you!</strong>
LOCATION:South Middle School 350 W. Harbeck Grants Pass\, OR 97526
UID:e.1818.18035
SEQUENCE:3
DTSTAMP:20260425T144731Z
URL:https://business.grantspasschamber.org/events/details/south-middle-school-holiday-bazaar-18035
END:VEVENT

END:VCALENDAR
