BEGIN:VCALENDAR
VERSION:2.0
PRODID:-//ChamberMaster//Event Calendar 2.0//EN
METHOD:PUBLISH
X-PUBLISHED-TTL:P3D
REFRESH-INTERVAL:P3D
CALSCALE:GREGORIAN
BEGIN:VEVENT
DTSTART;VALUE=DATE:20160805
DTEND;VALUE=DATE:20160806
TRANSP:TRANSPARENT
X-MICROSOFT-CDO-ALLDAYEVENT:TRUE
SUMMARY:Southern Oregon Art Show ~ 68th Annual
DESCRIPTION:An Open Community Multi-Media Art Show for adults and youths. Runs through August 25.\n\n\n\nSee website for daily details\n\n\n\nFirst Friday Reception 4p - 5:30pm
X-ALT-DESC;FMTTYPE=text/html:<strong>An Open Community Multi-Media Art Show for adults and youths. <u>Runs through August 25.</u><br />\n<br />\nSee website for daily details<br />\n<br />\nFirst Friday Reception 4p - 5:30pm</strong>
LOCATION:FireHouse Gallery\, Rogue Community College 214 SW 4th Street Grants Pass
UID:e.1818.15289
SEQUENCE:3
DTSTAMP:20260425T192705Z
URL:https://business.grantspasschamber.org/events/details/southern-oregon-art-show-68th-annual-08-05-2016-15289
END:VEVENT

END:VCALENDAR
