BEGIN:VCALENDAR
VERSION:2.0
PRODID:-//ChamberMaster//Event Calendar 2.0//EN
METHOD:PUBLISH
X-PUBLISHED-TTL:P3D
REFRESH-INTERVAL:P3D
CALSCALE:GREGORIAN
BEGIN:VEVENT
DTSTART:20160512T190000Z
DTEND:20160512T210000Z
X-MICROSOFT-CDO-ALLDAYEVENT:FALSE
SUMMARY:Southern Oregon Goodwill: The Story Behind the Store Awards & Tour
DESCRIPTION:You're invited to our Special Event for Southern Oregon Goodwill. Come Celebrate achievement of Goodwill graduates\, honor community partners\, and learn more about the Story Behind the Store.
X-ALT-DESC;FMTTYPE=text/html:You&#39\;re invited to our Special Event for Southern Oregon Goodwill. Come Celebrate achievement of Goodwill graduates\, honor community partners\, and learn more about the Story Behind the Store.
LOCATION:735 SW 5th Street Grants Pass\, Oregon 97526
UID:e.1818.15567
SEQUENCE:3
DTSTAMP:20260426T000347Z
URL:https://business.grantspasschamber.org/events/details/southern-oregon-goodwill-the-story-behind-the-store-awards-tour-05-12-2016-15567
END:VEVENT

END:VCALENDAR
