BEGIN:VCALENDAR
VERSION:2.0
PRODID:-//ChamberMaster//Event Calendar 2.0//EN
METHOD:PUBLISH
X-PUBLISHED-TTL:P3D
REFRESH-INTERVAL:P3D
CALSCALE:GREGORIAN
BEGIN:VEVENT
DTSTART:20160430T160000Z
DTEND:20160502T000000Z
X-MICROSOFT-CDO-ALLDAYEVENT:FALSE
SUMMARY:Southern Oregon Motorcycle Swap Meet
DESCRIPTION:Southern Oregon's premier motorcycle swap meet and free bike show hosted by ABATE of Oregon. All bikes welcome.\n\n\n\nNEW LOCATION (formerly at Touvelle Lodge). Over 40 vendors signed up last year. Two day event April 30-May 1. Only $5/day or $8/two-day pass. Kids free. New and used parts\, leathers and accessories\, food\, music & beer garden. Bike Show Saturday 12:00 pm - 3:00 pm. Registration 10 am.
X-ALT-DESC;FMTTYPE=text/html:<strong>Southern Oregon&#39\;s premier motorcycle swap meet and free bike show hosted by ABATE of Oregon. All bikes welcome.<br />\n<br />\nNEW LOCATION (formerly at Touvelle Lodge). Over 40 vendors signed up last year. Two day event April 30-May 1. Only $5/day or $8/two-day pass. Kids free. New and used parts\, leathers and accessories\, food\, music &amp\; beer garden. Bike Show Saturday 12:00 pm - 3:00 pm. Registration 10 am.</strong>
LOCATION:New Location\, 545 California Ave\, Grants Pass -Merlin. Exit 61. Monument to California
UID:e.1818.17425
SEQUENCE:3
DTSTAMP:20260426T000234Z
URL:https://business.grantspasschamber.org/events/details/southern-oregon-motorcycle-swap-meet-04-30-2016-17425
END:VEVENT

END:VCALENDAR
