BEGIN:VCALENDAR
VERSION:2.0
PRODID:-//ChamberMaster//Event Calendar 2.0//EN
METHOD:PUBLISH
X-PUBLISHED-TTL:P3D
REFRESH-INTERVAL:P3D
CALSCALE:GREGORIAN
BEGIN:VEVENT
DTSTART;VALUE=DATE:20160430
DTEND;VALUE=DATE:20160502
TRANSP:TRANSPARENT
X-MICROSOFT-CDO-ALLDAYEVENT:TRUE
SUMMARY:Southern Oregon Motorcycle Swap Meet & Bike Show\, 18th Annual
DESCRIPTION:Southern Oregon's premier motorcycle swap meet and free bike show hosted by ABATE of Oregon. All bikes welcome. NEW LOCATION (formerly at Touvelle Lodge). Over 40 vendors signed up last year. Two day event April 30-May 1.New and used motorcycle parts\, leathers and accessories\, food\, music & beer garden. Bike Show Saturday 12:00 pm - 3:00 pm. Registration 10 am.
X-ALT-DESC;FMTTYPE=text/html:Southern Oregon&#39\;s premier motorcycle swap meet and free bike show hosted by ABATE of Oregon. All bikes welcome. NEW LOCATION (formerly at Touvelle Lodge). Over 40 vendors signed up last year. Two day event April 30-May 1.New and used motorcycle parts\, leathers and accessories\, food\, music &amp\; beer garden. Bike Show Saturday 12:00 pm - 3:00 pm. Registration 10 am.
LOCATION:At the end of California St off Monument\, Grants Pass (Merlin off ramp).
UID:e.1818.15745
SEQUENCE:3
DTSTAMP:20260426T000346Z
URL:https://business.grantspasschamber.org/events/details/southern-oregon-motorcycle-swap-meet-bike-show-18th-annual-04-30-2016-15745
END:VEVENT

END:VCALENDAR
