BEGIN:VCALENDAR
VERSION:2.0
PRODID:-//ChamberMaster//Event Calendar 2.0//EN
METHOD:PUBLISH
X-PUBLISHED-TTL:P3D
REFRESH-INTERVAL:P3D
CALSCALE:GREGORIAN
BEGIN:VEVENT
DTSTART:20180428T160000Z
DTEND:20180430T020000Z
X-MICROSOFT-CDO-ALLDAYEVENT:FALSE
SUMMARY:Southern Oregon Motorcycle Swap Meet & Bike Show\, 20th Annual
DESCRIPTION:Southern Oregon's premier motorcycle swap meet and free bike show hosted by ABATE of Oregon. All bikes welcome. Over 40 vendors signed up last year. Two day event.New and used motorcycle parts\, leathers and accessories\, food\, music & beer garden. Bike Show Saturday 12:00 pm - 3:00 pm. Registration 10 am.
X-ALT-DESC;FMTTYPE=text/html:Southern Oregon&#39\;s premier motorcycle swap meet and free bike show hosted by ABATE of Oregon. All bikes welcome. Over 40 vendors signed up last year. Two day event.New and used motorcycle parts\, leathers and accessories\, food\, music &amp\; beer garden. Bike Show Saturday 12:00 pm - 3:00 pm. Registration 10 am.
LOCATION:2400 Pleasant Valley Rd Merlin Exit 61 off I-5
UID:e.1818.28730
SEQUENCE:3
DTSTAMP:20260424T052306Z
URL:https://business.grantspasschamber.org/events/details/southern-oregon-motorcycle-swap-meet-bike-show-20th-annual-28730
END:VEVENT

END:VCALENDAR
