BEGIN:VCALENDAR
VERSION:2.0
PRODID:-//ChamberMaster//Event Calendar 2.0//EN
METHOD:PUBLISH
X-PUBLISHED-TTL:P3D
REFRESH-INTERVAL:P3D
CALSCALE:GREGORIAN
BEGIN:VEVENT
DTSTART:20180123T030000Z
DTEND:20180123T050000Z
X-MICROSOFT-CDO-ALLDAYEVENT:FALSE
SUMMARY:SpeakLife! '18 ~ Oregon Life United Presents
DESCRIPTION:Oregon Life United presents SpeakLife!! '18\n\n\n\nGovernor Mike Huckabee will be at three locations in Oregon\, and in Southern Oregon on Monday\, January 22nd at 7pm
X-ALT-DESC;FMTTYPE=text/html:<span style="font-size:16px\;"><strong>Oregon Life United presents SpeakLife!! &#39\;18</strong></span><br />\n<br />\n<strong>Governor Mike Huckabee will be at three locations in Oregon\, and in Southern Oregon on Monday\, January 22nd at 7pm</strong>
LOCATION:Bethel Church Medford Oregon
UID:e.1818.25061
SEQUENCE:3
DTSTAMP:20260424T114512Z
URL:https://business.grantspasschamber.org/events/details/speaklife-18-oregon-life-united-presents-25061
END:VEVENT

END:VCALENDAR
