BEGIN:VCALENDAR
VERSION:2.0
PRODID:-//ChamberMaster//Event Calendar 2.0//EN
METHOD:PUBLISH
X-PUBLISHED-TTL:P3D
REFRESH-INTERVAL:P3D
CALSCALE:GREGORIAN
BEGIN:VEVENT
DTSTART:20161119T220000Z
DTEND:20161119T224500Z
X-MICROSOFT-CDO-ALLDAYEVENT:FALSE
SUMMARY:Special Film Screening of ''A Certain Kind of Light''
DESCRIPTION:Lovejoy Hospice was notified by Barnstormers Theater that we have been chosen to be the recipient of donations collected at the door during a special film screening of the documentary "A Certain Kind of Light".\n\n\n\nThis documentary is presented by the Wandering Reel Traveling Film Festival\, which is short film festival with a focus on bringing meaningful films to communities with limited or no access to compassionate\, thought-provoking cinema. For more details regarding this screening click on the link http://barnstormersgp.com/.\n\n\n\nPlease note that Lovejoy Hospice is not sponsoring or endorsing the film or its contents.
X-ALT-DESC;FMTTYPE=text/html:<strong>Lovejoy Hospice was notified by Barnstormers Theater that we have been chosen to be the recipient of donations collected at the door during a special film screening of the documentary &quot\;A Certain Kind of Light&quot\;.<br />\n<br />\nThis documentary is presented by the Wandering Reel Traveling Film Festival\, which is short film festival with a focus on bringing meaningful films to communities with limited or no access to compassionate\, thought-provoking cinema. For more details regarding this screening click on the link http://barnstormersgp.com/.<br />\n<br />\nPlease note that Lovejoy Hospice is not sponsoring or endorsing the film or its contents.</strong>
LOCATION:Barnstomers Theatre\, 112 NE Evelyn Ave\, Grants Pass.
UID:e.1818.18068
SEQUENCE:3
DTSTAMP:20260425T145346Z
URL:https://business.grantspasschamber.org/events/details/special-film-screening-of-a-certain-kind-of-light-18068
END:VEVENT

END:VCALENDAR
