BEGIN:VCALENDAR
VERSION:2.0
PRODID:-//ChamberMaster//Event Calendar 2.0//EN
METHOD:PUBLISH
X-PUBLISHED-TTL:P3D
REFRESH-INTERVAL:P3D
CALSCALE:GREGORIAN
BEGIN:VEVENT
DTSTART:20160409T010000Z
DTEND:20160409T023000Z
X-MICROSOFT-CDO-ALLDAYEVENT:FALSE
SUMMARY:Spring Banquet ~ Gospel Rescue Mission
DESCRIPTION:Gospel Rescue Mission Spring Banquet\, "Sowing Seeds of Hope for our Community\," raising funds for: Renovations for Fikso Women and Children's Center\, and Micro-enterprise Training and Processing Center.\n\n\n\nCome as you are and give as you can.  Limited seating\, call for reservations: 541.476.0082 or 541.476.1614.\n\n\n\nEnjoy Papa Terall's Scrumptious BBQ Catering
X-ALT-DESC;FMTTYPE=text/html:<strong>Gospel Rescue Mission Spring Banquet\, &quot\;Sowing Seeds of Hope for our Community\,&quot\; raising funds for: Renovations for Fikso Women and Children&#39\;s Center\, and Micro-enterprise Training and Processing Center.<br />\n<br />\nCome as you are and give as you can.&nbsp\; Limited seating\, call for reservations: 541.476.0082 or 541.476.1614.<br />\n<br />\n<u>Enjoy Papa Terall&#39\;s Scrumptious BBQ Catering</u></strong><br />\n<br />\n&nbsp\;
LOCATION:Parkway Christian Church\, Hull Center\, 229 N.E. Beacon Drive (Across from Fred Meyer)
UID:e.1818.15769
SEQUENCE:3
DTSTAMP:20260426T013803Z
URL:https://business.grantspasschamber.org/events/details/spring-banquet-gospel-rescue-mission-04-08-2016-15769
END:VEVENT

END:VCALENDAR
