BEGIN:VCALENDAR
VERSION:2.0
PRODID:-//ChamberMaster//Event Calendar 2.0//EN
METHOD:PUBLISH
X-PUBLISHED-TTL:P3D
REFRESH-INTERVAL:P3D
CALSCALE:GREGORIAN
BEGIN:VEVENT
DTSTART:20160409T160000Z
DTEND:20160409T210000Z
X-MICROSOFT-CDO-ALLDAYEVENT:FALSE
SUMMARY:Spring Clothing Fair ~ Supporting Women's Crisis Team
DESCRIPTION:Volunteers Needed ~ See Below\n\nMost clothing only $1.00\n\nCloset full of dresses - men & womens clothing - Accessories & Jewelry
X-ALT-DESC;FMTTYPE=text/html:<strong><u>Volunteers Needed ~ See Below</u><br />\nMost clothing only $1.00<br />\nCloset full of dresses - men &amp\; womens clothing - Accessories &amp\; Jewelry</strong><br />\n&nbsp\;
LOCATION:Evergreen's Bear Hotel 2101 Spalding Avenue
UID:e.1818.7846
SEQUENCE:3
DTSTAMP:20260426T013803Z
URL:https://business.grantspasschamber.org/events/details/spring-clothing-fair-supporting-women-s-crisis-team-04-09-2016-7846
END:VEVENT

END:VCALENDAR
