BEGIN:VCALENDAR
VERSION:2.0
PRODID:-//ChamberMaster//Event Calendar 2.0//EN
METHOD:PUBLISH
X-PUBLISHED-TTL:P3D
REFRESH-INTERVAL:P3D
CALSCALE:GREGORIAN
BEGIN:VEVENT
DTSTART:20160423T190000Z
DTEND:20160424T190000Z
X-MICROSOFT-CDO-ALLDAYEVENT:FALSE
SUMMARY:Spring Garden Fair
DESCRIPTION:Put on by the Josephine County Master Gardeners.
X-ALT-DESC;FMTTYPE=text/html:Put on by the Josephine County Master Gardeners.
LOCATION:Josephine County Extension Office
UID:e.1818.15237
SEQUENCE:3
DTSTAMP:20260426T013305Z
URL:https://business.grantspasschamber.org/events/details/spring-garden-fair-04-23-2016-15237
END:VEVENT

END:VCALENDAR
