BEGIN:VCALENDAR
VERSION:2.0
PRODID:-//ChamberMaster//Event Calendar 2.0//EN
METHOD:PUBLISH
X-PUBLISHED-TTL:P3D
REFRESH-INTERVAL:P3D
CALSCALE:GREGORIAN
BEGIN:VEVENT
DTSTART:20180506T170000Z
DTEND:20180506T230000Z
X-MICROSOFT-CDO-ALLDAYEVENT:FALSE
SUMMARY:Spring Garden Fair
DESCRIPTION:Josephine County Master Gardeners annual plant sale including veggies\, perennials\, and annuals. Garden related vendors too!
X-ALT-DESC;FMTTYPE=text/html:<br />\n<strong>Josephine County Master Gardeners annual plant sale including veggies\, perennials\, and annuals. Garden related vendors too!</strong>
LOCATION:OSU extension 215 Ringuette Grants Pass
UID:e.1818.25209
SEQUENCE:3
DTSTAMP:20260424T025656Z
URL:https://business.grantspasschamber.org/events/details/spring-garden-fair-05-06-2018-25209
END:VEVENT

END:VCALENDAR
