BEGIN:VCALENDAR
VERSION:2.0
PRODID:-//ChamberMaster//Event Calendar 2.0//EN
METHOD:PUBLISH
X-PUBLISHED-TTL:P3D
REFRESH-INTERVAL:P3D
CALSCALE:GREGORIAN
BEGIN:VEVENT
DTSTART;VALUE=DATE:20160429
DTEND;VALUE=DATE:20160502
TRANSP:TRANSPARENT
X-MICROSOFT-CDO-ALLDAYEVENT:TRUE
SUMMARY:Spring Home & Garden Show ~ 38th Annual
DESCRIPTION:See what's new for inside and outside of your home. Discover trends\, fresh ideas\, outdoor fine living\, construction technology.\n\n\n\nWhether you are giving your home a face lift\, building new\, remodeling\, landscaping\, and seeking maintenance the 38th Annual Spring Home & Garden Show is the place to be!\n\n\n\nSunday Is Kids Day with Annie The Clown\, Bounce House\, Kids Workshops
X-ALT-DESC;FMTTYPE=text/html:<strong>See what&rsquo\;s new for inside and outside of your home. Discover trends\, fresh ideas\, outdoor fine living\, construction technology.</strong><br />\n<br />\n<strong>Whether you are giving your home a face lift\, building new\, remodeling\, landscaping\, and seeking maintenance the 38th Annual Spring Home &amp\; Garden Show is the place to be!<br />\n<br />\nSunday Is Kids Day with Annie The Clown\, Bounce House\, Kids Workshops</strong><br />\n&nbsp\;
LOCATION:Josephine County Fairgrounds Grants Pass\, Oregon
UID:e.1818.11341
SEQUENCE:3
DTSTAMP:20260426T000115Z
URL:https://business.grantspasschamber.org/events/details/spring-home-garden-show-38th-annual-04-29-2016-11341
END:VEVENT

END:VCALENDAR
