BEGIN:VCALENDAR
VERSION:2.0
PRODID:-//ChamberMaster//Event Calendar 2.0//EN
METHOD:PUBLISH
X-PUBLISHED-TTL:P3D
REFRESH-INTERVAL:P3D
CALSCALE:GREGORIAN
BEGIN:VEVENT
DTSTART:20230311T170000Z
DTEND:20230311T230000Z
X-MICROSOFT-CDO-ALLDAYEVENT:FALSE
SUMMARY:Spring is in Bloom
DESCRIPTION:A FREE EVENT!\n\n\n\nWe are so excited for this Spring to kick off our first event for 2023!!\n\n\n\nPlease come see what these small businesses have in store for you! Kid friendly event so don't be afraid to bring them!\n\n\n\nCome shop and get ready for Spring! We hope to see you!! Rain or shine!
X-ALT-DESC;FMTTYPE=text/html:<span style="font-size:20px\;"><span style="color: rgb(5\, 5\, 5)\; font-family: &quot\;Segoe UI Historic&quot\;\, &quot\;Segoe UI&quot\;\, Helvetica\, Arial\, sans-serif\; background-color: rgb(255\, 255\, 255)\;"><strong>A FREE EVENT!</strong><br />\n<br />\nWe are so excited for this Spring to kick off our first event for 2023!!<br />\n<br />\nPlease come see what these small businesses have in store for you! Kid friendly event so don&rsquo\;t be afraid to bring them!<br />\n<br />\nCome shop and get ready for Spring! We hope to see you!! Rain or shine!</span></span>
LOCATION:JOCO Fairgrounds 1451 Fairgrounds Rd.
UID:e.1818.42358
SEQUENCE:3
DTSTAMP:20260422T120722Z
URL:https://business.grantspasschamber.org/events/details/spring-is-in-bloom-42358
END:VEVENT

END:VCALENDAR
