BEGIN:VCALENDAR
VERSION:2.0
PRODID:-//ChamberMaster//Event Calendar 2.0//EN
METHOD:PUBLISH
X-PUBLISHED-TTL:P3D
REFRESH-INTERVAL:P3D
CALSCALE:GREGORIAN
BEGIN:VEVENT
DTSTART;VALUE=DATE:20160411
DTEND;VALUE=DATE:20160412
TRANSP:TRANSPARENT
X-MICROSOFT-CDO-ALLDAYEVENT:TRUE
SUMMARY:Spring Leaf Collection
DESCRIPTION:Runs from April 11th to April 29th. Pick up days are as follows: NW = Monday NE = Tuesday SW = Wednesday SE = Thursday Leaves must be bagged\, branches cannot be more than 3 feet long and bundles no more than 3 feet around.
X-ALT-DESC;FMTTYPE=text/html:Runs from April 11th to April 29th. Pick up days are as follows: NW = Monday NE = Tuesday SW = Wednesday SE = Thursday Leaves must be bagged\, branches cannot be more than 3 feet long and bundles no more than 3 feet around.
LOCATION:For residents within city limits only
UID:e.1818.15791
SEQUENCE:3
DTSTAMP:20260426T013136Z
URL:https://business.grantspasschamber.org/events/details/spring-leaf-collection-04-11-2016-15791
END:VEVENT

END:VCALENDAR
