BEGIN:VCALENDAR
VERSION:2.0
PRODID:-//ChamberMaster//Event Calendar 2.0//EN
METHOD:PUBLISH
X-PUBLISHED-TTL:P3D
REFRESH-INTERVAL:P3D
CALSCALE:GREGORIAN
BEGIN:VEVENT
DTSTART:20160425T190000Z
DTEND:20160425T190000Z
X-MICROSOFT-CDO-ALLDAYEVENT:FALSE
SUMMARY:Spring Show and Critique Luncheon
DESCRIPTION:A one-day art show sponsored by the Josephine County Artists Association.
X-ALT-DESC;FMTTYPE=text/html:A one-day art show sponsored by the Josephine County Artists Association.
LOCATION:Grants Pass Golf Club
UID:e.1818.15238
SEQUENCE:3
DTSTAMP:20260426T013647Z
URL:https://business.grantspasschamber.org/events/details/spring-show-and-critique-luncheon-04-25-2016-15238
END:VEVENT

END:VCALENDAR
