BEGIN:VCALENDAR
VERSION:2.0
PRODID:-//ChamberMaster//Event Calendar 2.0//EN
METHOD:PUBLISH
X-PUBLISHED-TTL:P3D
REFRESH-INTERVAL:P3D
CALSCALE:GREGORIAN
BEGIN:VEVENT
DTSTART;VALUE=DATE:20171104
DTEND;VALUE=DATE:20171106
TRANSP:TRANSPARENT
X-MICROSOFT-CDO-ALLDAYEVENT:TRUE
SUMMARY:St Anne Church Holiday Bazaar ''Winter Wonderland''
DESCRIPTION:St Anne Catholic Church is presenting their annual holiday bazaar at Grants Pass High School commons this year because they have torn their church down and have no place for the event.\n\n\n\nThe bazaar will consist of 1000's of craft items\, amazing raffle items\, including home-made quilts and a hand-crafted artisan table\, a Silent Auction (with many items\, all antique or unique)\, an Art Auction (beautiful artwork by local artists)\, a bake sale\, country store\, garden shed and kids korner.\n\n\n\nThere will be home-made cinnamon rolls hot from the oven on Saturday and Sunday mornings (until they run out)\, turkey dinner with all the trimmings being served on Saturday from 11:00 AM to 7:00 PM and soup\, sandwiches and pastries throughout both days.\n\n\n\nThe bazaar will be open until 8:00 PM on Saturday so people who work on Saturday will be able to attend and/or everyone can have a turkey dinner on Saturday evening. The raffle drawings and Silent Auction final bidding will be at 1:00 PM on Sunday afternoon. There will be music and FREE drinks for everyone.
X-ALT-DESC;FMTTYPE=text/html:<strong>St Anne Catholic Church is presenting their annual holiday bazaar at Grants Pass High School commons this year because they have torn their church down and have no place for the event.<br />\n<br />\nThe bazaar will consist of 1000&#39\;s of craft items\, amazing raffle items\, including home-made quilts and a hand-crafted artisan table\, a Silent Auction (with many items\, all antique or unique)\, an Art Auction (beautiful artwork by local artists)\, a bake sale\, country store\, garden shed and kids korner.<br />\n<br />\nThere will be home-made cinnamon rolls hot from the oven on Saturday and Sunday mornings (until they run out)\, turkey dinner with all the trimmings being served on Saturday from 11:00 AM to 7:00 PM and soup\, sandwiches and pastries throughout both days.<br />\n<br />\nThe bazaar will be open until 8:00 PM on Saturday so people who work on Saturday will be able to attend and/or everyone can have a turkey dinner on Saturday evening. The raffle drawings and Silent Auction final bidding will be at 1:00 PM on Sunday afternoon. There will be music and FREE drinks for everyone.</strong>
LOCATION:Grants Pass High School Commons Area 830 NE 9th St\, Grants Pass\, Oregon
UID:e.1818.24686
SEQUENCE:3
DTSTAMP:20260424T182250Z
URL:https://business.grantspasschamber.org/events/details/st-anne-church-holiday-bazaar-winter-wonderland-24686
END:VEVENT

END:VCALENDAR
