BEGIN:VCALENDAR
VERSION:2.0
PRODID:-//ChamberMaster//Event Calendar 2.0//EN
METHOD:PUBLISH
X-PUBLISHED-TTL:P3D
REFRESH-INTERVAL:P3D
CALSCALE:GREGORIAN
BEGIN:VEVENT
DTSTART;VALUE=DATE:20161105
DTEND;VALUE=DATE:20161107
TRANSP:TRANSPARENT
X-MICROSOFT-CDO-ALLDAYEVENT:TRUE
SUMMARY:St. Anne's Holiday Bazaar
DESCRIPTION:Unique Gift Ideas for Everyone on your list\n\nDoor Prizes\, Raffles\, Silent Auction
X-ALT-DESC;FMTTYPE=text/html:<p><strong>Unique Gift Ideas for Everyone on your list<br />\nDoor Prizes\, Raffles\, Silent Auction</strong></p>\n\n<p>&nbsp\;</p>\n
LOCATION:St. Anne's Catholic Parrish Center 1131 NE 10th Street Grants Pass
UID:e.1818.18006
SEQUENCE:3
DTSTAMP:20260425T143224Z
URL:https://business.grantspasschamber.org/events/details/st-anne-s-holiday-bazaar-18006
END:VEVENT

END:VCALENDAR
