BEGIN:VCALENDAR
VERSION:2.0
PRODID:-//ChamberMaster//Event Calendar 2.0//EN
METHOD:PUBLISH
X-PUBLISHED-TTL:P3D
REFRESH-INTERVAL:P3D
CALSCALE:GREGORIAN
BEGIN:VEVENT
DTSTART:20230318T010000Z
DTEND:20230318T065500Z
X-MICROSOFT-CDO-ALLDAYEVENT:FALSE
SUMMARY:St. Patrick's Day Crawl & After Party
DESCRIPTION:Join us for our 2nd Annual St. Patrick's Day Pub Crawl!\n\nSilent Disco with us around the fine establishments of historical H Street in Downtown GP. There will be a scavenger hunt\, prizes\, and the usual shenanigans you can expect from the CULT.\n\nTHEN for attendees that opt for the full event experience we'll wrap up the night with an exclusive after party at the Wonderbur Lounge & Cafe!! That's right folks\, we're making history and closing the place down for a live set by DJ Obermeister\, after dark performances and fun!\n\nTickets available HERE. Cheers!
X-ALT-DESC;FMTTYPE=text/html:<div class="x11i5rnm xat24cr x1mh8g0r x1vvkbs xdj266r" style="margin: 0px\; overflow-wrap: break-word\; font-family: &quot\;Segoe UI Historic&quot\;\, &quot\;Segoe UI&quot\;\, Helvetica\, Arial\, sans-serif\; color: rgb(5\, 5\, 5)\; font-size: 15px\; background-color: rgb(255\, 255\, 255)\;"><span style="font-size:20px\;">Join us for our 2nd Annual St. Patrick&#39\;s Day Pub Crawl!</span></div>\n\n<div class="x11i5rnm xat24cr x1mh8g0r x1vvkbs xtlvy1s" style="margin: 0.5em 0px 0px\; overflow-wrap: break-word\; font-family: &quot\;Segoe UI Historic&quot\;\, &quot\;Segoe UI&quot\;\, Helvetica\, Arial\, sans-serif\; color: rgb(5\, 5\, 5)\; font-size: 15px\; background-color: rgb(255\, 255\, 255)\;"><span style="font-size:20px\;">Silent Disco with us around the fine establishments of historical H Street in Downtown GP. There will be a scavenger hunt\, prizes\, and the usual shenanigans you can expect from the CULT.</span></div>\n\n<div class="x11i5rnm xat24cr x1mh8g0r x1vvkbs xtlvy1s" style="margin: 0.5em 0px 0px\; overflow-wrap: break-word\; font-family: &quot\;Segoe UI Historic&quot\;\, &quot\;Segoe UI&quot\;\, Helvetica\, Arial\, sans-serif\; color: rgb(5\, 5\, 5)\; font-size: 15px\; background-color: rgb(255\, 255\, 255)\;"><span style="font-size:20px\;">THEN for attendees that opt for the full event experience we&#39\;ll wrap up the night with an exclusive after party at the Wonderbur Lounge &amp\; Cafe!! That&rsquo\;s right folks\, we&rsquo\;re making history and closing the place down for a live set by DJ Obermeister\, after dark performances and fun!</span></div>\n\n<div class="x11i5rnm xat24cr x1mh8g0r x1vvkbs xtlvy1s" style="margin: 0.5em 0px 0px\; overflow-wrap: break-word\; font-family: &quot\;Segoe UI Historic&quot\;\, &quot\;Segoe UI&quot\;\, Helvetica\, Arial\, sans-serif\; color: rgb(5\, 5\, 5)\; font-size: 15px\; background-color: rgb(255\, 255\, 255)\;"><span style="font-size:20px\;">Tickets available <a href="https://notacultproductions.ticketspice.com/st-patricks-day-pub-crawl-after-party?fbclid=IwAR0jue8o8vLMUnS--mey4zRLXp-t2NkIbHDr9A2jQFqfGiwUUtEaJ1kHIr4">HERE</a>. Cheers!&nbsp\;</span></div>\n
LOCATION:Downtown Grants Pass
UID:e.1818.42743
SEQUENCE:3
DTSTAMP:20260422T120947Z
URL:https://business.grantspasschamber.org/events/details/st-patrick-s-day-crawl-after-party-42743
END:VEVENT

END:VCALENDAR
