BEGIN:VCALENDAR
VERSION:2.0
PRODID:-//ChamberMaster//Event Calendar 2.0//EN
METHOD:PUBLISH
X-PUBLISHED-TTL:P3D
REFRESH-INTERVAL:P3D
CALSCALE:GREGORIAN
BEGIN:VEVENT
DTSTART:20160317T230000Z
DTEND:20160318T010000Z
X-MICROSOFT-CDO-ALLDAYEVENT:FALSE
SUMMARY:ST PATRICK'S DAY DINNER
DESCRIPTION:American Legion Auxiliary Unit 28 Is hosting St. Patrick's Day Dinner on Thursday March 17th Serving Corned Beef and Cabbage with all the traditional fixings from 4 to 6 p.m.\n\n\n\n$6 per person. 206 NW F ST. 541-474-6400 Deck yourself out in green\, and join us for dinner! Proceeds benefit the American Legion Auxiliary Unit 28 programs
X-ALT-DESC;FMTTYPE=text/html:<strong>American Legion Auxiliary Unit 28 Is hosting St. Patrick&#39\;s Day Dinner on Thursday March 17th Serving Corned Beef and Cabbage with all the traditional fixings from 4 to 6 p.m.<br />\n<br />\n$6 per person. 206 NW F ST. 541-474-6400 Deck yourself out in green\, and join us for dinner! Proceeds benefit the American Legion Auxiliary Unit 28 programs</strong>
LOCATION:206 NW F ST\, GRANTS PASS
UID:e.1818.16858
SEQUENCE:3
DTSTAMP:20260426T030328Z
URL:https://business.grantspasschamber.org/events/details/st-patrick-s-day-dinner-03-17-2016-16858
END:VEVENT

END:VCALENDAR
