BEGIN:VCALENDAR
VERSION:2.0
PRODID:-//ChamberMaster//Event Calendar 2.0//EN
METHOD:PUBLISH
X-PUBLISHED-TTL:P3D
REFRESH-INTERVAL:P3D
CALSCALE:GREGORIAN
BEGIN:VEVENT
DTSTART:20260314T230000Z
DTEND:20260315T050000Z
X-MICROSOFT-CDO-ALLDAYEVENT:FALSE
SUMMARY:St. Patrick's Dinner & Karaoke at the Post
DESCRIPTION:American Legion Grants Pass Post 28 located at 206 NW F St in Grants Pass is hosting a St. Patrick's Day Dinner serving Corned Beef & Cabbage at 4:00pm on Saturday\, March 14th.\n\n\nJoin us after for Karaoke! We will also have  a 50/50 Raffle. Tunes provided by Rob and Wendy Westphall.\n\n\n\nCall for dinner pricing and to RSVP for by Friday\, March 13th\, 541-474-6400.\n\n \n\nProceeds benefit the American Legion Grants Pass Post 28 Veteran programs
X-ALT-DESC;FMTTYPE=text/html:<div style="border: 0px\; font-variant-numeric: inherit\; font-variant-east-asian: inherit\; font-variant-alternates: inherit\; font-variant-position: inherit\; font-variant-emoji: inherit\; font-stretch: inherit\; font-size: 15px\; line-height: inherit\; font-family: &quot\;Segoe UI&quot\;\, &quot\;Segoe UI Web (West European)&quot\;\, -apple-system\, BlinkMacSystemFont\, Roboto\, &quot\;Helvetica Neue&quot\;\, sans-serif\; font-optical-sizing: inherit\; font-size-adjust: inherit\; font-kerning: inherit\; font-feature-settings: inherit\; font-variation-settings: inherit\; font-language-override: inherit\; margin: 0px\; padding: 0px\; vertical-align: baseline\; color: rgb(36\, 36\, 36)\; background-color: rgb(255\, 255\, 255)\;">\n<div data-olk-copy-source="MessageBody" style="border: 0px\; font: inherit\; margin: 0px\; padding: 0px\; vertical-align: baseline\; color: inherit\;"><span style="font-size:20px\;">American Legion Grants Pass Post 28 located at&nbsp\;</span><span style="color: rgb(36\, 36\, 36)\; font-family: &quot\;Segoe UI&quot\;\, &quot\;Segoe UI Web (West European)&quot\;\, -apple-system\, BlinkMacSystemFont\, Roboto\, &quot\;Helvetica Neue&quot\;\, sans-serif\; font-size: 20px\; background-color: rgb(255\, 255\, 255)\;">206 NW F St in&nbsp\;Grants Pass&nbsp\;</span><span style="font-size: 20px\; color: inherit\; font-family: inherit\; font-style: inherit\; font-variant-ligatures: inherit\; font-variant-caps: inherit\; font-weight: inherit\;">is hosting a St. Patrick&#39\;s Day Dinner serving Corned Beef &amp\; Cabbage at 4</span><span style="color: rgb(36\, 36\, 36)\; font-family: &quot\;Segoe UI&quot\;\, &quot\;Segoe UI Web (West European)&quot\;\, -apple-system\, BlinkMacSystemFont\, Roboto\, &quot\;Helvetica Neue&quot\;\, sans-serif\; font-size: 20px\; background-color: rgb(255\, 255\, 255)\;">:00pm&nbsp\;</span><span style="font-size: 20px\; color: inherit\; font-family: inherit\; font-style: inherit\; font-variant-ligatures: inherit\; font-variant-caps: inherit\; font-weight: inherit\;">on Saturday\, March 14th.</span>\n<div style="direction: ltr\;"><br />\n<span style="font-size:20px\;">Join us&nbsp\;after for Karaoke!&nbsp\;We will also have&nbsp\; a 50/50 Raffle.&nbsp\;</span><span style="color: rgb(36\, 36\, 36)\; font-family: &quot\;Segoe UI&quot\;\, &quot\;Segoe UI Web (West European)&quot\;\, -apple-system\, BlinkMacSystemFont\, Roboto\, &quot\;Helvetica Neue&quot\;\, sans-serif\; font-size: 20px\; background-color: rgb(255\, 255\, 255)\;">Tunes provided by Rob and Wendy Westphall.</span></div>\n\n<div style="direction: ltr\;"><br />\n<span style="color: rgb(36\, 36\, 36)\; font-family: &quot\;Segoe UI&quot\;\, &quot\;Segoe UI Web (West European)&quot\;\, -apple-system\, BlinkMacSystemFont\, Roboto\, &quot\;Helvetica Neue&quot\;\, sans-serif\; font-size: 20px\; background-color: rgb(255\, 255\, 255)\;">Call for dinner pricing and&nbsp\;</span><span style="font-size:20px\;">to RSVP for by Friday\, March 13th\, 541-474-6400.</span></div>\n\n<div style="direction: ltr\;">&nbsp\;</div>\n\n<div style="direction: ltr\;"><span style="font-size:20px\;">Proceeds&nbsp\;benefit&nbsp\;the American Legion Grants Pass Post 28 Veteran programs</span></div>\n</div>\n</div>\n
LOCATION:American Legion Post 28 206 NW F St\, GP
UID:e.1818.59054
SEQUENCE:3
DTSTAMP:20260423T093410Z
URL:https://business.grantspasschamber.org/events/details/st-patrick-s-dinner-karaoke-at-the-post-59054
END:VEVENT

END:VCALENDAR
