BEGIN:VCALENDAR
VERSION:2.0
PRODID:-//ChamberMaster//Event Calendar 2.0//EN
METHOD:PUBLISH
X-PUBLISHED-TTL:P3D
REFRESH-INTERVAL:P3D
CALSCALE:GREGORIAN
BEGIN:VEVENT
DTSTART:20160205T160000Z
DTEND:20160206T000000Z
X-MICROSOFT-CDO-ALLDAYEVENT:FALSE
SUMMARY:Stand Up and BBQ ~ 2nd Annual
DESCRIPTION:All Veteran and their families in need are welcome to the 2nd Annual Stand Up and BBQ. Please bring either DD214 or proof of Veteran status.
X-ALT-DESC;FMTTYPE=text/html:All Veteran and their families in need are welcome to the 2nd Annual Stand Up and BBQ. Please bring either DD214 or proof of Veteran status.
LOCATION:Josephine County Fairgrounds
UID:e.1818.15581
SEQUENCE:3
DTSTAMP:20260426T044025Z
URL:https://business.grantspasschamber.org/events/details/stand-up-and-bbq-2nd-annual-02-05-2016-15581
END:VEVENT

END:VCALENDAR
