BEGIN:VCALENDAR
VERSION:2.0
PRODID:-//ChamberMaster//Event Calendar 2.0//EN
METHOD:PUBLISH
X-PUBLISHED-TTL:P3D
REFRESH-INTERVAL:P3D
CALSCALE:GREGORIAN
BEGIN:VEVENT
DTSTART;VALUE=DATE:20161118
DTEND;VALUE=DATE:20161119
TRANSP:TRANSPARENT
X-MICROSOFT-CDO-ALLDAYEVENT:TRUE
SUMMARY:Stockings for Soldiers Project 2016 ~ JoCo 4-H
DESCRIPTION:For the 7th year Josephine County 4-H will be collecting and shipping donated personal items to service men and women who are stationed overseas during the holiday season.  Our goal is 200 Stockings for Soldiers.\n\n\n\nCommunity help is requested and needed to cover stockings that will be filled with travel size items which can be carried in backpacks and funds to cover shipping costs.\n\nItems like:  aspirin\, body power\, disposable razors\, flavored water packets\, hot chocolate/coffee\, individual size snacks such as chips/Oreos/nuts\, instant oatmeal\, lotions\, sanitary wipes\, shampoo\, small stationery\, and other small easily carried\, non perishable items.\n\n\n\nIf you wold like to contribute by donating items\, or funds for shipping you may bring them to the OSU Extension Office during business hours Monday - Friday\,  9am to 4pm.\n\n\n\nAny additional questions call OSU Extension Office at (541) 476-6613\n\nThe deadline for collection is Monday\, November 28th to be shipped December 1st.\n\nGift Basket Giveaway Drawing ~ Fundraiser \n\n~ Local Items ~\n\n$5 Donation for entry closes Noon on December 3rd\n\nTicket Locations:\n\nSandi's Candies\n\n145 SW G Street\n\nGrants Pass\n\nFacebook.com/SandisCandies\n\n(541) 951-9112\n\n\n\nChamber Visitors Center\n\n1995 NW Vine St\n\n(Morgan Ln & 6th St)
X-ALT-DESC;FMTTYPE=text/html:<strong>For the 7th year Josephine County 4-H will be collecting and shipping donated personal items to service men and women who are stationed overseas during the holiday season.&nbsp\; <u>Our goal is 200 Stockings for Soldiers.</u><br />\n<br />\nCommunity help is requested and needed to cover stockings that will be filled with travel size items which can be carried in backpacks and funds to cover shipping costs.<br />\n<span style="color:#FF0000\;"><u>Items like</u>:</span>&nbsp\; aspirin\, body power\, disposable razors\, flavored water packets\, hot chocolate/coffee\, individual size snacks such as chips/Oreos/nuts\, instant oatmeal\, lotions\, sanitary wipes\, shampoo\, small stationery\, and other small easily carried\, non perishable items.<br />\n<br />\n<u>If you wold like to contribute by donating items\, or funds for shipping you may bring them to the OSU Extension Office during business hours Monday - Friday\,&nbsp\; 9am to 4pm.</u><br />\n<br />\nAny additional questions call OSU Extension Office at (541) 476-6613<br />\n<span style="color:#FF0000\;"><em>The deadline for collection is Monday\, November 28th to be shipped December 1st.</em></span></strong><br />\n<strong><span style="font-size:18px\;"><u>Gift Basket Giveaway Drawing ~ Fundraiser </u><br />\n~ Local Items</span> ~<br />\n$5 Donation for entry closes Noon on December 3rd<br />\n<span style="font-size:16px\;"><span style="color: rgb(255\, 0\, 0)\;"><u>Ticket Locations</u>:</span></span><br />\nSandi&#39\;s Candies<br />\n145 SW G Street<br />\nGrants Pass<br />\nFacebook.com/SandisCandies<br />\n(541) 951-9112<br />\n<br />\nChamber Visitors Center<br />\n1995 NW Vine St<br />\n(Morgan Ln &amp\; 6th St)</strong>
LOCATION:OSU Extension Office 215 Ringuette St Grants Pass Jonie Anderson Project Coordinator (541) 218-8747 Email: sales@goldeneaglechew.com
UID:e.1818.18061
SEQUENCE:3
DTSTAMP:20260425T145114Z
URL:https://business.grantspasschamber.org/events/details/stockings-for-soldiers-project-2016-joco-4-h-18061
END:VEVENT

END:VCALENDAR
