BEGIN:VCALENDAR
VERSION:2.0
PRODID:-//ChamberMaster//Event Calendar 2.0//EN
METHOD:PUBLISH
X-PUBLISHED-TTL:P3D
REFRESH-INTERVAL:P3D
CALSCALE:GREGORIAN
BEGIN:VEVENT
DTSTART;VALUE=DATE:20161008
DTEND;VALUE=DATE:20161009
TRANSP:TRANSPARENT
X-MICROSOFT-CDO-ALLDAYEVENT:TRUE
SUMMARY:Storytellers - Barnstormers
DESCRIPTION:"Verbs & Nouns." A dynamic duet that combines jazz\, blues\, and reggae in a chill style. (Pacific Northwest)
X-ALT-DESC;FMTTYPE=text/html:<strong>&quot\;Verbs &amp\; Nouns.&quot\; A dynamic duet that combines jazz\, blues\, and reggae in a chill style. (Pacific Northwest)</strong>
LOCATION:Barnstormers Theatre 112 NE Evelyn Avenue Grants Pass OR 97526
UID:e.1818.17881
SEQUENCE:3
DTSTAMP:20260425T163028Z
URL:https://business.grantspasschamber.org/events/details/storytellers-barnstormers-17881
END:VEVENT

END:VCALENDAR
